BEGIN:VCALENDAR
VERSION:2.0
PRODID:-//North Pennines National Landscape - ECPv6.15.11//NONSGML v1.0//EN
CALSCALE:GREGORIAN
METHOD:PUBLISH
X-WR-CALNAME:North Pennines National Landscape
X-ORIGINAL-URL:https://northpennines.org.uk
X-WR-CALDESC:Events for North Pennines National Landscape
REFRESH-INTERVAL;VALUE=DURATION:PT1H
X-Robots-Tag:noindex
X-PUBLISHED-TTL:PT1H
BEGIN:VTIMEZONE
TZID:Europe/London
BEGIN:DAYLIGHT
TZOFFSETFROM:+0000
TZOFFSETTO:+0100
TZNAME:BST
DTSTART:20240331T010000
END:DAYLIGHT
BEGIN:STANDARD
TZOFFSETFROM:+0100
TZOFFSETTO:+0000
TZNAME:GMT
DTSTART:20241027T010000
END:STANDARD
BEGIN:DAYLIGHT
TZOFFSETFROM:+0000
TZOFFSETTO:+0100
TZNAME:BST
DTSTART:20250330T010000
END:DAYLIGHT
BEGIN:STANDARD
TZOFFSETFROM:+0100
TZOFFSETTO:+0000
TZNAME:GMT
DTSTART:20251026T010000
END:STANDARD
BEGIN:DAYLIGHT
TZOFFSETFROM:+0000
TZOFFSETTO:+0100
TZNAME:BST
DTSTART:20260329T010000
END:DAYLIGHT
BEGIN:STANDARD
TZOFFSETFROM:+0100
TZOFFSETTO:+0000
TZNAME:GMT
DTSTART:20261025T010000
END:STANDARD
END:VTIMEZONE
BEGIN:VEVENT
DTSTART;TZID=Europe/London:20250807T093000
DTEND;TZID=Europe/London:20250807T150000
DTSTAMP:20260421T170017
CREATED:20250710T112315Z
LAST-MODIFIED:20250710T112315Z
UID:10001859-1754559000-1754578800@northpennines.org.uk
SUMMARY:Guided walk - Pennine Way profile - the shape of a landscape
DESCRIPTION:A guided walk from Bowlees Visitor Centre in celebration of the Pennine Way’s 60th anniversary\, Thursday 7 August\, 9.30am to 3pm. The route will take in some of the highlights of Upper Teesdale\, including High Force and Low Force. \nAlong the 12 km (7 mile) route we will be explaining the environmental processes and human activities that have shaped the the North Pennines National Landscape and UNESCO Global Geopark and the attraction of people choosing to walk 268 miles along the Pennine Way. \nAs the event will be taking place outdoors\, please dress for the weather. We recommend walking boots. Bowlees Visitor Centre will be open for toilets and refreshments at the start and end of the walk. Pease bring food and drink. \nAll ages are welcome (children must be accompanied by an adult and must be able to walk or be carried as the paths are not be suitable for pushchairs). Well behaved dogs on a short lead are welcome. \nSuggested donation only £3 per person\, or £10 for family/group of four. Your donation enables the North Pennines National Landscape team to protect and restore this special place and help people connect with nature. \nPlease book using the link to Ticketsource \n\n\n\n                \n                \n\n\n  \n 
URL:https://northpennines.org.uk/event/guided-walk-pennine-way-profile-the-shape-of-a-landscape/
LOCATION:Bowlees Visitor Centre\, Newbiggin\, DL12 0XF
CATEGORIES:Guided walk
ATTACH;FMTTYPE=image/jpeg:https://northpennines.org.uk/wp-content/uploads/2023/01/DSC_1622.jpg
ORGANIZER;CN="North Pennines National Landscape":MAILTO:communications@northpennines.org.uk
END:VEVENT
END:VCALENDAR