BEGIN:VCALENDAR
VERSION:2.0
PRODID:-//North Pennines National Landscape - ECPv6.15.11//NONSGML v1.0//EN
CALSCALE:GREGORIAN
METHOD:PUBLISH
X-ORIGINAL-URL:https://northpennines.org.uk
X-WR-CALDESC:Events for North Pennines National Landscape
REFRESH-INTERVAL;VALUE=DURATION:PT1H
X-Robots-Tag:noindex
X-PUBLISHED-TTL:PT1H
BEGIN:VTIMEZONE
TZID:Europe/London
BEGIN:DAYLIGHT
TZOFFSETFROM:+0000
TZOFFSETTO:+0100
TZNAME:BST
DTSTART:20230326T010000
END:DAYLIGHT
BEGIN:STANDARD
TZOFFSETFROM:+0100
TZOFFSETTO:+0000
TZNAME:GMT
DTSTART:20231029T010000
END:STANDARD
BEGIN:DAYLIGHT
TZOFFSETFROM:+0000
TZOFFSETTO:+0100
TZNAME:BST
DTSTART:20240331T010000
END:DAYLIGHT
BEGIN:STANDARD
TZOFFSETFROM:+0100
TZOFFSETTO:+0000
TZNAME:GMT
DTSTART:20241027T010000
END:STANDARD
BEGIN:DAYLIGHT
TZOFFSETFROM:+0000
TZOFFSETTO:+0100
TZNAME:BST
DTSTART:20250330T010000
END:DAYLIGHT
BEGIN:STANDARD
TZOFFSETFROM:+0100
TZOFFSETTO:+0000
TZNAME:GMT
DTSTART:20251026T010000
END:STANDARD
END:VTIMEZONE
BEGIN:VEVENT
DTSTART;TZID=Europe/London:20240210T100000
DTEND;TZID=Europe/London:20240210T143000
DTSTAMP:20260421T135816
CREATED:20240116T185430Z
LAST-MODIFIED:20240117T112205Z
UID:10000317-1707559200-1707575400@northpennines.org.uk
SUMMARY:Hedge planting
DESCRIPTION:Volunteer to plant hedges at Greenside Farm\, Brampton\, Cumbria on Saturday 10 February\, 10am to 2.30pm. We’ll be working with a group of volunteers to improve habitats by planting a diverse hedge mix to boost the farm’s biodiversity as well as creating vital habitat highways for wildlife. This is part of the Fellfoot Forward scheme’s Wild Connections project. \nSuitable for ages 16+\, under 18s must be accompanied by an adult. Please wear appropriate footwear and clothing for working outdoors\, and bring gloves. Please bring flasks with hot drinks\, snacks\, and packed lunch. If you have any appropriate tools\, feel free to bring them along. For more information please contact dylan@northpennines.org.uk / 07704147690 \nSign up using the Better Impact volunteer system \n 
URL:https://northpennines.org.uk/event/hedge-planting-4/
LOCATION:Greenside Farm\, Brampton\, CA8 2PX
CATEGORIES:Volunteering
ATTACH;FMTTYPE=image/jpeg:https://northpennines.org.uk/wp-content/uploads/2024/01/Vols-planting-20211022_143104-2-scaled-1.jpg
ORGANIZER;CN="North Pennines National Landscape":MAILTO:communications@northpennines.org.uk
END:VEVENT
BEGIN:VEVENT
DTSTART;TZID=Europe/London:20240203T100000
DTEND;TZID=Europe/London:20240203T143000
DTSTAMP:20260421T135816
CREATED:20240116T182940Z
LAST-MODIFIED:20240118T084604Z
UID:10000316-1706954400-1706970600@northpennines.org.uk
SUMMARY:Hedge management event
DESCRIPTION:Volunteer to plant hedges at High Hall Farm\, Croglin on 3 February\, 10am to 2.30pm. We’ll be working with a group of volunteers to improve habitats by planting a diverse hedge mix to boost the farm’s biodiversity as well as creating vital habitat highways for wildlife. This is part of the Fellfoot Forward Wild Connections project. \nSuitable for ages 16+\, under 18s must be accompanied by an adult. Please wear appropriate footwear and clothing for working outdoors\, and bring gloves\,flasks with hot drinks\, snacks\, and packed lunch. If you have any appropriate tools\, feel free to bring them along. For more information please contact dylan@northpennines.org.uk / 07704147690 \nSign up using the Better Impact volunteer system \n  \n \n 
URL:https://northpennines.org.uk/event/hedge-management-event/
LOCATION:High Hill Farm
CATEGORIES:Volunteering
ATTACH;FMTTYPE=image/jpeg:https://northpennines.org.uk/wp-content/uploads/2024/01/Vols-planting-20211022_143104-2-scaled-1.jpg
ORGANIZER;CN="North Pennines National Landscape":MAILTO:communications@northpennines.org.uk
END:VEVENT
BEGIN:VEVENT
DTSTART;TZID=Europe/London:20240127T100000
DTEND;TZID=Europe/London:20240127T143000
DTSTAMP:20260421T135816
CREATED:20240116T180850Z
LAST-MODIFIED:20240117T111932Z
UID:10000315-1706349600-1706365800@northpennines.org.uk
SUMMARY:Hedge planting
DESCRIPTION:Join us planting hedges at Cannerheugh Farm\, near Renwick and Gamblesby in Cumbria\, on Saturday 27 January\, 10am to 2.30pm. We’ll be working with a group of volunteers to improve habitats by planting a diverse hedge mix to boost the farm’s biodiversity as well as creating vital habitat highways for wildlife. This is part of the Fellfoot Forward scheme’s Wild Connections project. \nSuitable for ages 16+\, under 18s must be accompanied by an adult. Please wear appropriate footwear and clothing for working outdoors\, and bring gloves. Please bring flasks with hot drinks\, snacks\, and packed lunch. If you have any appropriate tools\, feel free to bring them along. For more information please contact dylan@northpennines.org.uk / 07704147690 \nSign up using the Better Impact volunteer system \n 
URL:https://northpennines.org.uk/event/hedge-planting-3/
LOCATION:Cannerheugh Farm\, Nr Penrith
CATEGORIES:Volunteering
ATTACH;FMTTYPE=image/jpeg:https://northpennines.org.uk/wp-content/uploads/2024/01/Vols-planting-20211022_143104-2-scaled-1.jpg
ORGANIZER;CN="North Pennines National Landscape":MAILTO:communications@northpennines.org.uk
END:VEVENT
END:VCALENDAR