BEGIN:VCALENDAR
VERSION:2.0
PRODID:-//North Pennines National Landscape - ECPv6.15.11//NONSGML v1.0//EN
CALSCALE:GREGORIAN
METHOD:PUBLISH
X-WR-CALNAME:North Pennines National Landscape
X-ORIGINAL-URL:https://northpennines.org.uk
X-WR-CALDESC:Events for North Pennines National Landscape
REFRESH-INTERVAL;VALUE=DURATION:PT1H
X-Robots-Tag:noindex
X-PUBLISHED-TTL:PT1H
BEGIN:VTIMEZONE
TZID:Europe/London
BEGIN:DAYLIGHT
TZOFFSETFROM:+0000
TZOFFSETTO:+0100
TZNAME:BST
DTSTART:20200329T010000
END:DAYLIGHT
BEGIN:STANDARD
TZOFFSETFROM:+0100
TZOFFSETTO:+0000
TZNAME:GMT
DTSTART:20201025T010000
END:STANDARD
BEGIN:DAYLIGHT
TZOFFSETFROM:+0000
TZOFFSETTO:+0100
TZNAME:BST
DTSTART:20210328T010000
END:DAYLIGHT
BEGIN:STANDARD
TZOFFSETFROM:+0100
TZOFFSETTO:+0000
TZNAME:GMT
DTSTART:20211031T010000
END:STANDARD
BEGIN:DAYLIGHT
TZOFFSETFROM:+0000
TZOFFSETTO:+0100
TZNAME:BST
DTSTART:20220327T010000
END:DAYLIGHT
BEGIN:STANDARD
TZOFFSETFROM:+0100
TZOFFSETTO:+0000
TZNAME:GMT
DTSTART:20221030T010000
END:STANDARD
END:VTIMEZONE
BEGIN:VEVENT
DTSTART;TZID=Europe/London:20211022T200000
DTEND;TZID=Europe/London:20211022T230000
DTSTAMP:20260420T223900
CREATED:20210923T142137Z
LAST-MODIFIED:20211007T113617Z
UID:10000183-1634932800-1634943600@northpennines.org.uk
SUMMARY:Astronomy and stargazing
DESCRIPTION:Have you ever looked up at the night time sky and wondered why you can’t see anything other than stars? Or have you ever looked up at the night sky and wondered how far it is to the stars that you can see? Do you want to know what a star is\, or how a telescope works\, or even where it all came from? If you answered yes to any of these questions\, then this evening is for you. During the evening you’ll discover details about the night sky that will amaze\, inform\, thrill and engage you – then it’s off to the telescopes for the chance to observe the sky\, through some seriously powerful pieces of equipment\, and the opportunity to take pictures of what you see\, as you gaze at the stars overhead. \nThe event will begin with a personal welcome from Grassholme Observatory’s astronomer\, Gary Fildes. After the welcome\, the team will escort you into the new state of the art classroom\, which has a cosy feel\, and high definition (HD) projection system. Here you’ll have a whistle stop tour of the Universe followed by an opportunity to observe the night sky (weather permitting) with an array of telescopes and cameras. After the observing ends\, it’s back inside for a hot drink and a chat\, before you head off home. \nPre-booking is essential via https://www.grassholmeobservatory.com/book/ \nTickets cost  £20 (adult); £16 (concessions) \nThis event is part of the North Pennines Stargazing Festival running from 22-31 October 2021 – www.NorthPenninesStarFest.org.uk #NorthPennStarFest21 #NPennDarkSkies
URL:https://northpennines.org.uk/event/introduction-to-astronomy-1/
LOCATION:Grassholme Observatory\, DL12 0PW
END:VEVENT
END:VCALENDAR