BEGIN:VCALENDAR
VERSION:2.0
PRODID:-//North Pennines National Landscape - ECPv6.15.11//NONSGML v1.0//EN
CALSCALE:GREGORIAN
METHOD:PUBLISH
X-ORIGINAL-URL:https://northpennines.org.uk
X-WR-CALDESC:Events for North Pennines National Landscape
REFRESH-INTERVAL;VALUE=DURATION:PT1H
X-Robots-Tag:noindex
X-PUBLISHED-TTL:PT1H
BEGIN:VTIMEZONE
TZID:Europe/London
BEGIN:DAYLIGHT
TZOFFSETFROM:+0000
TZOFFSETTO:+0100
TZNAME:BST
DTSTART:20250330T010000
END:DAYLIGHT
BEGIN:STANDARD
TZOFFSETFROM:+0100
TZOFFSETTO:+0000
TZNAME:GMT
DTSTART:20251026T010000
END:STANDARD
BEGIN:DAYLIGHT
TZOFFSETFROM:+0000
TZOFFSETTO:+0100
TZNAME:BST
DTSTART:20260329T010000
END:DAYLIGHT
BEGIN:STANDARD
TZOFFSETFROM:+0100
TZOFFSETTO:+0000
TZNAME:GMT
DTSTART:20261025T010000
END:STANDARD
BEGIN:DAYLIGHT
TZOFFSETFROM:+0000
TZOFFSETTO:+0100
TZNAME:BST
DTSTART:20270328T010000
END:DAYLIGHT
BEGIN:STANDARD
TZOFFSETFROM:+0100
TZOFFSETTO:+0000
TZNAME:GMT
DTSTART:20271031T010000
END:STANDARD
END:VTIMEZONE
BEGIN:VEVENT
DTSTART;TZID=Europe/London:20260604T100000
DTEND;TZID=Europe/London:20260604T120000
DTSTAMP:20260420T223849
CREATED:20260420T112910Z
LAST-MODIFIED:20260420T112910Z
UID:10002275-1780567200-1780574400@northpennines.org.uk
SUMMARY:Wildlife\, history and farming - Ecological restoration at RSPB Geltsdale
DESCRIPTION:RSPB Geltsdale are hosting a guided walk looking at how nature and agriculture and history co-exist in the English uplands. We’ll look at management for breeding waders\, Black Grouse\, the ‘re-wiggling’ of Howgill Beck and the Bruthwaite Forest native woodland planting scheme. \nSuitable for ages 12 years and above. Not suitable for dogs. \nFurther information about RSPB Geltsdale is available at\nhttps://www.rspb.org.uk/days-out/reserves/geltsdale\n01697 746717 / geltsdale@rspb.org.uk Ian Ryding – ian.ryding@rspb.org.uk and Victoria Benson – Victoria.benson@rspb.org.uk \nPlease book using the link to Ticketsource \n\n\n\n                \n                \n\n\nThis event is being organised by RSPB Geltsdale and is part of North Pennines NatureFest running from Saturday 23 May to Sunday 7 June 2026. See the full programme at www.NorthPenninesNatureFest.org.uk #NorthPenninesNatureFest26 \n 
URL:https://northpennines.org.uk/event/wildlife-history-and-farming-ecological-restoration-at-rspb-geltsdale/
LOCATION:RSPB Geltsdale\, RSPB Geltsdale\, Stagsike Cottages\, Brampton CA8 2PN\, CA8 2PN\, United Kingdom
CATEGORIES:Nature and wildlife event,Naturefest,Walking
ATTACH;FMTTYPE=image/jpeg:https://northpennines.org.uk/wp-content/uploads/2026/04/redshank-stagsike-meadow-scaled.jpg
ORGANIZER;CN="North Pennines National Landscape":MAILTO:communications@northpennines.org.uk
END:VEVENT
END:VCALENDAR