BEGIN:VCALENDAR
VERSION:2.0
PRODID:-//North Pennines National Landscape - ECPv6.15.11//NONSGML v1.0//EN
CALSCALE:GREGORIAN
METHOD:PUBLISH
X-ORIGINAL-URL:https://northpennines.org.uk
X-WR-CALDESC:Events for North Pennines National Landscape
REFRESH-INTERVAL;VALUE=DURATION:PT1H
X-Robots-Tag:noindex
X-PUBLISHED-TTL:PT1H
BEGIN:VTIMEZONE
TZID:Europe/London
BEGIN:DAYLIGHT
TZOFFSETFROM:+0000
TZOFFSETTO:+0100
TZNAME:BST
DTSTART:20240331T010000
END:DAYLIGHT
BEGIN:STANDARD
TZOFFSETFROM:+0100
TZOFFSETTO:+0000
TZNAME:GMT
DTSTART:20241027T010000
END:STANDARD
BEGIN:DAYLIGHT
TZOFFSETFROM:+0000
TZOFFSETTO:+0100
TZNAME:BST
DTSTART:20250330T010000
END:DAYLIGHT
BEGIN:STANDARD
TZOFFSETFROM:+0100
TZOFFSETTO:+0000
TZNAME:GMT
DTSTART:20251026T010000
END:STANDARD
BEGIN:DAYLIGHT
TZOFFSETFROM:+0000
TZOFFSETTO:+0100
TZNAME:BST
DTSTART:20260329T010000
END:DAYLIGHT
BEGIN:STANDARD
TZOFFSETFROM:+0100
TZOFFSETTO:+0000
TZNAME:GMT
DTSTART:20261025T010000
END:STANDARD
END:VTIMEZONE
BEGIN:VEVENT
DTSTART;TZID=Europe/London:20250503T100000
DTEND;TZID=Europe/London:20250503T160000
DTSTAMP:20260422T023023
CREATED:20250324T155643Z
LAST-MODIFIED:20250324T155945Z
UID:10001313-1746266400-1746288000@northpennines.org.uk
SUMMARY:Pottery open day
DESCRIPTION:Drop in to Alston Pottery to learn about adders in the North Pennines and to try your hand at pottery by adding coils to a collaborative pot. Children are welcome to make their own small clay pot. \nParking is available on site\, please follow the signage. \nThis workshop is part of the 2024-25 Adders Up community arts programme. To find out more go to https://northpennines.org.uk/community-arts-2024/ \n  \n       \n  \n 
URL:https://northpennines.org.uk/event/pottery-open-day-2/
LOCATION:Alston Pottery\, The Old Brewery\, Alston\, Cumbria\, CA9 3RP\, United Kingdom
CATEGORIES:Art,Family-friendly
ATTACH;FMTTYPE=image/jpeg:https://northpennines.org.uk/wp-content/uploads/2025/03/Adder-pottery2-kids-2025-scaled.jpeg
ORGANIZER;CN="North Pennines National Landscape":MAILTO:communications@northpennines.org.uk
END:VEVENT
BEGIN:VEVENT
DTSTART;TZID=Europe/London:20250405T100000
DTEND;TZID=Europe/London:20250405T160000
DTSTAMP:20260422T023023
CREATED:20250324T154618Z
LAST-MODIFIED:20250324T155753Z
UID:10001312-1743847200-1743868800@northpennines.org.uk
SUMMARY:Pottery open day
DESCRIPTION:Drop in to Alston Pottery to learn about adders in the North Pennines and to try your hand at pottery by adding coils to a collaborative pot with Jessica Cooper ceramics. \nSuitable for all ages. Children are welcome to make their own small clay pot. \nParking is available on site\, please follow the signage. \nThis workshop is part of the 2024-25 Adders Up community arts programme. To find out more go to https://northpennines.org.uk/community-arts-2024/ \n  \n       \n  \n 
URL:https://northpennines.org.uk/event/pottery-open-day-1/
LOCATION:Alston Pottery\, The Old Brewery\, Alston\, Cumbria\, CA9 3RP\, United Kingdom
CATEGORIES:Art,Family-friendly
ATTACH;FMTTYPE=image/jpeg:https://northpennines.org.uk/wp-content/uploads/2025/03/Adder-pottery2-kids-2025-scaled.jpeg
ORGANIZER;CN="North Pennines National Landscape":MAILTO:communications@northpennines.org.uk
END:VEVENT
END:VCALENDAR