BEGIN:VCALENDAR
VERSION:2.0
PRODID:-//North Pennines National Landscape - ECPv6.15.11//NONSGML v1.0//EN
CALSCALE:GREGORIAN
METHOD:PUBLISH
X-WR-CALNAME:North Pennines National Landscape
X-ORIGINAL-URL:https://northpennines.org.uk
X-WR-CALDESC:Events for North Pennines National Landscape
REFRESH-INTERVAL;VALUE=DURATION:PT1H
X-Robots-Tag:noindex
X-PUBLISHED-TTL:PT1H
BEGIN:VTIMEZONE
TZID:Europe/London
BEGIN:DAYLIGHT
TZOFFSETFROM:+0000
TZOFFSETTO:+0100
TZNAME:BST
DTSTART:20220327T010000
END:DAYLIGHT
BEGIN:STANDARD
TZOFFSETFROM:+0100
TZOFFSETTO:+0000
TZNAME:GMT
DTSTART:20221030T010000
END:STANDARD
BEGIN:DAYLIGHT
TZOFFSETFROM:+0000
TZOFFSETTO:+0100
TZNAME:BST
DTSTART:20230326T010000
END:DAYLIGHT
BEGIN:STANDARD
TZOFFSETFROM:+0100
TZOFFSETTO:+0000
TZNAME:GMT
DTSTART:20231029T010000
END:STANDARD
BEGIN:DAYLIGHT
TZOFFSETFROM:+0000
TZOFFSETTO:+0100
TZNAME:BST
DTSTART:20240331T010000
END:DAYLIGHT
BEGIN:STANDARD
TZOFFSETFROM:+0100
TZOFFSETTO:+0000
TZNAME:GMT
DTSTART:20241027T010000
END:STANDARD
BEGIN:DAYLIGHT
TZOFFSETFROM:+0000
TZOFFSETTO:+0100
TZNAME:BST
DTSTART:20250330T010000
END:DAYLIGHT
BEGIN:STANDARD
TZOFFSETFROM:+0100
TZOFFSETTO:+0000
TZNAME:GMT
DTSTART:20251026T010000
END:STANDARD
BEGIN:DAYLIGHT
TZOFFSETFROM:+0000
TZOFFSETTO:+0100
TZNAME:BST
DTSTART:20260329T010000
END:DAYLIGHT
BEGIN:STANDARD
TZOFFSETFROM:+0100
TZOFFSETTO:+0000
TZNAME:GMT
DTSTART:20261025T010000
END:STANDARD
BEGIN:DAYLIGHT
TZOFFSETFROM:+0000
TZOFFSETTO:+0100
TZNAME:BST
DTSTART:20270328T010000
END:DAYLIGHT
BEGIN:STANDARD
TZOFFSETFROM:+0100
TZOFFSETTO:+0000
TZNAME:GMT
DTSTART:20271031T010000
END:STANDARD
END:VTIMEZONE
BEGIN:VEVENT
DTSTART;TZID=Europe/London:20260228T103000
DTEND;TZID=Europe/London:20260228T143000
DTSTAMP:20260425T152006
CREATED:20251208T143519Z
LAST-MODIFIED:20260129T113652Z
UID:10002039-1772274600-1772289000@northpennines.org.uk
SUMMARY:Saturday stroll - a guided walk
DESCRIPTION:Enjoy the outdoors on a guided walk through a historical landscape on the last Saturday of every month. Join a small group of people taking in the surroundings\, and learn about what shaped the landscape as well as the mining heritage. \nSaturday strolls are approximately three miles in length on mostly flat ground and with rest breaks along the way. \nThis month’s walk starting in Eggleston\, on 28 February will begin at 10.30am and finish at approximately 1pm. You are welcome to join us after the walk for free refreshments finishing by 2:30pm. Exact location to be confirmed. \nAll ages are welcome (children must be accompanied by an adult and must be able to walk or be carried as the paths may not be suitable for pushchairs). Well behaved dogs on a short lead are welcome. \nThe final details of the walk are subject to change\, please check back closer to the event for final details. There are likely to be a couple of stiles to climb over on this walk. \nOptional donation – suggested amount £3. Your donation enables the North Pennines National Landscape team to protect and restore this special place and help people connect with nature. \nPlease use the Ticketsource link to book. \n\n\n\n                \n                \n\n\n  \n   
URL:https://northpennines.org.uk/event/saturday-stroll-a-guided-walk-8-copy-copy/
LOCATION:Eggleston
CATEGORIES:Guided walk,Historic environment event,Walking
ATTACH;FMTTYPE=image/jpeg:https://northpennines.org.uk/wp-content/uploads/2023/04/circular-walk-sign-waymarker-moss-gatepost-Bowlees.jpg
ORGANIZER;CN="North Pennines National Landscape":MAILTO:communications@northpennines.org.uk
END:VEVENT
BEGIN:VEVENT
DTSTART;TZID=Europe/London:20231209T100000
DTEND;TZID=Europe/London:20231209T153000
DTSTAMP:20260425T152006
CREATED:20231006T125448Z
LAST-MODIFIED:20231123T125322Z
UID:10000500-1702116000-1702135800@northpennines.org.uk
SUMMARY:Hedge and tree planting
DESCRIPTION:Join us at a farm near Eggleston to undertake tree and hedge planting on 8 & 9 December 10am to 3.30pm. We will be planting a broadleaved hedge mix of predominately hawthorn and a small number of native trees. \nA light lunch will be provided but please bring any drinks and snacks. All ages are welcome\, children must be supervised by adult. All training and equipment will be provided. Please wear outdoor clothing and bring waterproofs\, and wear boots with a sturdy sole. A general level of fitness needed. There will be plenty more opportunities to volunteer in the New Year. \nPlease sign up using the Better Impact volunteer platform. \n  \n \n 
URL:https://northpennines.org.uk/event/hedge-and-tree-planting-5/2023-12-09/
LOCATION:Eggleston
CATEGORIES:Volunteering
ATTACH;FMTTYPE=image/jpeg:https://northpennines.org.uk/wp-content/uploads/2022/06/Tree_planting_Hllbankgate_20211205_143745-e1654772908922.jpg
ORGANIZER;CN="North Pennines National Landscape":MAILTO:communications@northpennines.org.uk
END:VEVENT
BEGIN:VEVENT
DTSTART;TZID=Europe/London:20231208T100000
DTEND;TZID=Europe/London:20231208T153000
DTSTAMP:20260425T152006
CREATED:20231006T125448Z
LAST-MODIFIED:20231123T125322Z
UID:10000499-1702029600-1702049400@northpennines.org.uk
SUMMARY:Hedge and tree planting
DESCRIPTION:Join us at a farm near Eggleston to undertake tree and hedge planting on 8 & 9 December 10am to 3.30pm. We will be planting a broadleaved hedge mix of predominately hawthorn and a small number of native trees. \nA light lunch will be provided but please bring any drinks and snacks. All ages are welcome\, children must be supervised by adult. All training and equipment will be provided. Please wear outdoor clothing and bring waterproofs\, and wear boots with a sturdy sole. A general level of fitness needed. There will be plenty more opportunities to volunteer in the New Year. \nPlease sign up using the Better Impact volunteer platform. \n  \n \n 
URL:https://northpennines.org.uk/event/hedge-and-tree-planting-5/2023-12-08/
LOCATION:Eggleston
CATEGORIES:Volunteering
ATTACH;FMTTYPE=image/jpeg:https://northpennines.org.uk/wp-content/uploads/2022/06/Tree_planting_Hllbankgate_20211205_143745-e1654772908922.jpg
ORGANIZER;CN="North Pennines National Landscape":MAILTO:communications@northpennines.org.uk
END:VEVENT
END:VCALENDAR